BEGIN:VCALENDAR
VERSION:2.0
PRODID:-//Hervé Birolini - ECPv6.15.11//NONSGML v1.0//EN
CALSCALE:GREGORIAN
METHOD:PUBLISH
X-WR-CALNAME:Hervé Birolini
X-ORIGINAL-URL:https://hervebirolini.com
X-WR-CALDESC:Évènements pour Hervé Birolini
REFRESH-INTERVAL;VALUE=DURATION:PT1H
X-Robots-Tag:noindex
X-PUBLISHED-TTL:PT1H
BEGIN:VTIMEZONE
TZID:Europe/Paris
BEGIN:DAYLIGHT
TZOFFSETFROM:+0100
TZOFFSETTO:+0200
TZNAME:CEST
DTSTART:20210328T010000
END:DAYLIGHT
BEGIN:STANDARD
TZOFFSETFROM:+0200
TZOFFSETTO:+0100
TZNAME:CET
DTSTART:20211031T010000
END:STANDARD
BEGIN:DAYLIGHT
TZOFFSETFROM:+0100
TZOFFSETTO:+0200
TZNAME:CEST
DTSTART:20220327T010000
END:DAYLIGHT
BEGIN:STANDARD
TZOFFSETFROM:+0200
TZOFFSETTO:+0100
TZNAME:CET
DTSTART:20221030T010000
END:STANDARD
BEGIN:DAYLIGHT
TZOFFSETFROM:+0100
TZOFFSETTO:+0200
TZNAME:CEST
DTSTART:20230326T010000
END:DAYLIGHT
BEGIN:STANDARD
TZOFFSETFROM:+0200
TZOFFSETTO:+0100
TZNAME:CET
DTSTART:20231029T010000
END:STANDARD
END:VTIMEZONE
BEGIN:VEVENT
DTSTART;TZID=Europe/Paris:20220113T150000
DTEND;TZID=Europe/Paris:20220113T200000
DTSTAMP:20260424T010325
CREATED:20210715T163253Z
LAST-MODIFIED:20211223T101250Z
UID:2271-1642086000-1642104000@hervebirolini.com
SUMMARY:Tesla (Représentation pro)// Arsenal Cité Musicale Metz-Fr
DESCRIPTION:Performance live életronique \nCréation 2022 \nDurée : 35’à 40′ \nDirection artistique et musique : Hervé Birolini \nFrançois Donato : Musique \nLivret original de Dominique Petitgand \nVoix enregistrée : Denis REY \nUne pièce au carrefour de la dramatique radiophonique\, de la performance Live Electronics et du cinéma d’anticipation. \nNikola Tesla\, a dédié sa vie à imaginer les visages multiples de l’électricité. Il a vu les capacités extraordinaires que l’humanité pouvait attendre de cette énergie\, mais\, il s’est\, d’une certaine manière\, un peu perdu en chemin\, dans l’entrelacs infini des possibilités. Inventeur et ingénieur de génie\, il est à l’origine d’un nombre incalculable d’outils de la civilisation moderne et reste un des plus grands esprits que l’humanité ait connus. \nNous ne voulons pas raconter l’histoire de Nikola Tesla. Mais plutôt mettre au jour la matière première\, faire émerger certaines des notions qui faisaient le quotidien de cet inventeur de génie\, s’immerger de manière poétique dans le récit de ce qu’auraient pu être ses réflexions. Le dispositif : un champ mixte de 16 haut-parleurs omnidirectionnels surmontés de Bobines Tesla\, quelques lumières discrètes pour guider l’oreille et le livret original de Dominique Petitgand qui a rêvé en mots l’univers de ce chercheur infatigable.
URL:https://hervebirolini.com/event/tesla-creation-2-2-3/
LOCATION:Cité Musicale-Metz\, 3 Avenue Ney\, Metz\, 57000
CATEGORIES:Future
END:VEVENT
BEGIN:VEVENT
DTSTART;TZID=Europe/Paris:20220120T150000
DTEND;TZID=Europe/Paris:20220120T160000
DTSTAMP:20260424T010325
CREATED:20210715T105710Z
LAST-MODIFIED:20211223T101511Z
UID:2259-1642690800-1642694400@hervebirolini.com
SUMMARY:Tesla (!!Reporté!!)// JACTES Longlaville-Fr
DESCRIPTION:Performance live életronique \nCréation 2022 \nDurée : 35’à 40′ \nDirection artistique et musique : Hervé Birolini \nFrançois Donato : Musique \nLivret original de Dominique Petitgand \nVoix enregistrée : Denis REY \nUne pièce au carrefour de la dramatique radiophonique\, de la performance Live Electronics et du cinéma d’anticipation. \nNikola Tesla\, a dédié sa vie à imaginer les visages multiples de l’électricité. Il a vu les capacités extraordinaires que l’humanité pouvait attendre de cette énergie\, mais\, il s’est\, d’une certaine manière\, un peu perdu en chemin\, dans l’entrelacs infini des possibilités. Inventeur et ingénieur de génie\, il est à l’origine d’un nombre incalculable d’outils de la civilisation moderne et reste un des plus grands esprits que l’humanité ait connus. \nNous ne voulons pas raconter l’histoire de Nikola Tesla. Mais plutôt mettre au jour la matière première\, faire émerger certaines des notions qui faisaient le quotidien de cet inventeur de génie\, s’immerger de manière poétique dans le récit de ce qu’auraient pu être ses réflexions. Le dispositif : un champ mixte de 16 haut-parleurs omnidirectionnels surmontés de Bobines Tesla\, quelques lumières discrètes pour guider l’oreille et le livret original de Dominique Petitgand qui a rêvé en mots l’univers de ce chercheur infatigable.
URL:https://hervebirolini.com/event/tesla-creation-2-2-2-3-2/
LOCATION:Espace Culturel Jean Ferrat\, Parc Jacques Duclos\, 18 Place du 24 Juillet 1897\, Longlaville\, 54810\, France
CATEGORIES:Future
END:VEVENT
BEGIN:VEVENT
DTSTART;TZID=Europe/Paris:20220129T150000
DTEND;TZID=Europe/Paris:20220129T160000
DTSTAMP:20260424T010325
CREATED:20210913T121042Z
LAST-MODIFIED:20211201T200008Z
UID:2266-1643468400-1643472000@hervebirolini.com
SUMMARY:Core // Bords2Scènes (!!Reporté!!)/ Vitry-le-François-Fr
DESCRIPTION:Direction Artistique : Hervé Birolini / Aurore Gruel \nDispositif sonore\, scénographie\, développements\, composition et interprétation live : Hervé Birolini\nChorégraphie\, Danse : Aurore Gruel\nCréation Vidéo-light : Sean Caruso / Reprise David Verlet pour les dates européennes\nDurée : 45′ \n\n\n\n16 hauts-parleurs mobiles\, autonomes et lumineux; 2 éléments en mouvement\, l’un microcosmique et l’autre macrocosmique. Cet ensemble interactif donne l’impulsion\, des changements qui bouleversent la donne à tout moment. Un cycle de composition/décomposition s’opère dans cette structure hypnotique qui suggère la métamorphose. Core\, un système matriciel sisiphéen\, une métaphore d’un monde en mouvement\, le monde qui nous entoure\, celui de la matière\, des atomes\, de l’univers\, des cordes\, des lignes. \nProduction : Cie Distorsions / Cie Ormone \nCo-production : Cité Musicale Metz\, S.A.T. (Montréal)\, La Muse En Circuit Centre National de Création Musicale (Alfortville). \nLes soutiens : DRAC Grand Est\, Région Grand Est\, Ville de Nancy\, Spedidam\, Adami \nRemerciements : Frédéric Septon\, ML Laser\, CCAM Scène Nationale de Vandœuvre-les-Nancy \nLe projet Core à bénéficié du support de la Société des Arts Technologiques – SAT dans le cadre de son programmes de création d’œuvres en résidences.
URL:https://hervebirolini.com/event/core-bords2scenes-machabulles-vitry-le-francois-fr/
LOCATION:Bords2Scènes\, 4 rue Auguste Choisy Quartier des Bords de Marne\, Vitry-le-François\, 51300
CATEGORIES:Future
ORGANIZER;CN="bords2Sc%C3%A8nes":MAILTO:info@bords2scenes.fr
END:VEVENT
BEGIN:VEVENT
DTSTART;TZID=Europe/Paris:20220130T150000
DTEND;TZID=Europe/Paris:20220130T160000
DTSTAMP:20260424T010325
CREATED:20210913T121150Z
LAST-MODIFIED:20211201T200021Z
UID:2416-1643554800-1643558400@hervebirolini.com
SUMMARY:Core // Bords2Scènes (!!Reporté!!)/ Vitry-le-François-Fr
DESCRIPTION:Direction Artistique : Hervé Birolini / Aurore Gruel \nDispositif sonore\, scénographie\, développements\, composition et interprétation live : Hervé Birolini\nChorégraphie\, Danse : Aurore Gruel\nCréation Vidéo-light : Sean Caruso / Reprise David Verlet pour les dates européennes\nDurée : 45′ \n\n\n\n16 hauts-parleurs mobiles\, autonomes et lumineux; 2 éléments en mouvement\, l’un microcosmique et l’autre macrocosmique. Cet ensemble interactif donne l’impulsion\, des changements qui bouleversent la donne à tout moment. Un cycle de composition/décomposition s’opère dans cette structure hypnotique qui suggère la métamorphose. Core\, un système matriciel sisiphéen\, une métaphore d’un monde en mouvement\, le monde qui nous entoure\, celui de la matière\, des atomes\, de l’univers\, des cordes\, des lignes. \nProduction : Cie Distorsions / Cie Ormone \nCo-production : Cité Musicale Metz\, S.A.T. (Montréal)\, La Muse En Circuit Centre National de Création Musicale (Alfortville). \nLes soutiens : DRAC Grand Est\, Région Grand Est\, Ville de Nancy\, Spedidam\, Adami \nRemerciements : Frédéric Septon\, ML Laser\, CCAM Scène Nationale de Vandœuvre-les-Nancy \nLe projet Core à bénéficié du support de la Société des Arts Technologiques – SAT dans le cadre de son programmes de création d’œuvres en résidences.
URL:https://hervebirolini.com/event/core-bords2scenes-machabulles-vitry-le-francois-fr-2/
LOCATION:Bords2Scènes\, 4 rue Auguste Choisy Quartier des Bords de Marne\, Vitry-le-François\, 51300
CATEGORIES:Future
ORGANIZER;CN="bords2Sc%C3%A8nes":MAILTO:info@bords2scenes.fr
END:VEVENT
END:VCALENDAR